BEGIN:VCALENDAR
VERSION:2.0
PRODID:-//Building Advantage - ECPv6.15.20//NONSGML v1.0//EN
CALSCALE:GREGORIAN
METHOD:PUBLISH
X-WR-CALNAME:Building Advantage
X-ORIGINAL-URL:https://buildingadvantage.org
X-WR-CALDESC:Events for Building Advantage
REFRESH-INTERVAL;VALUE=DURATION:PT1H
X-Robots-Tag:noindex
X-PUBLISHED-TTL:PT1H
BEGIN:VTIMEZONE
TZID:America/Chicago
BEGIN:DAYLIGHT
TZOFFSETFROM:-0600
TZOFFSETTO:-0500
TZNAME:CDT
DTSTART:20240310T080000
END:DAYLIGHT
BEGIN:STANDARD
TZOFFSETFROM:-0500
TZOFFSETTO:-0600
TZNAME:CST
DTSTART:20241103T070000
END:STANDARD
BEGIN:DAYLIGHT
TZOFFSETFROM:-0600
TZOFFSETTO:-0500
TZNAME:CDT
DTSTART:20250309T080000
END:DAYLIGHT
BEGIN:STANDARD
TZOFFSETFROM:-0500
TZOFFSETTO:-0600
TZNAME:CST
DTSTART:20251102T070000
END:STANDARD
BEGIN:DAYLIGHT
TZOFFSETFROM:-0600
TZOFFSETTO:-0500
TZNAME:CDT
DTSTART:20260308T080000
END:DAYLIGHT
BEGIN:STANDARD
TZOFFSETFROM:-0500
TZOFFSETTO:-0600
TZNAME:CST
DTSTART:20261101T070000
END:STANDARD
END:VTIMEZONE
BEGIN:VEVENT
DTSTART;TZID=America/Chicago:20251029T080000
DTEND;TZID=America/Chicago:20251029T113000
DTSTAMP:20260420T141818
CREATED:20250725T165409Z
LAST-MODIFIED:20251010T150029Z
UID:10000022-1761724800-1761737400@buildingadvantage.org
SUMMARY:Counselors Guide to Union Apprenticeship
DESCRIPTION:Exploring the Union Apprenticeship Process \nDesigned specifically for high school counselors and career advisors\, this event will equip you with the knowledge and resources to guide students toward rewarding\, debt-free career opportunities in the union building trades. \n\nGet a clear understanding of the union apprenticeship application process\nTour the state-of-the-art Carpenters training facility\nDiscover the competitive wages\, benefits\, and long-term career growth union construction offers\nHear how other school districts are successfully supporting students pursuing trades careers\n\n*Registration is required  \nPlease enable JavaScript in your browser to complete this form.Name *FirstLastEmail *Job Title *School Name *Contact PhoneBreakfast will be provided for attendees \nSubmit  \nCheck out our website for other counselor resources: https://buildingadvantage.org/resources/#counselor-resources
URL:https://buildingadvantage.org/event/counselors-guide-to-union-apprenticeship/
LOCATION:Carpenters Training Institute\, N25W23055 Paul Rd #3\, Pewaukee\, WI\, 53072\, United States
CATEGORIES:Industry Events
ATTACH;FMTTYPE=image/jpeg:https://buildingadvantage.org/wp-content/uploads/2025/07/IMG_4588-scaled-e1753462307917.jpeg
END:VEVENT
END:VCALENDAR